BEGIN:VCALENDAR
VERSION:2.0
CALSCALE:GREGORIAN
PRODID:-//Diputació de Barcelona//DibaCMS//EN
BEGIN:VEVENT
UID:2759
DTSTAMP:20260421T103402
DTSTART:20230930T083000
DTEND:20230930T120000
SUMMARY:Anellament científic d'ocells a Ribes de Freser ("Salut i Natura inclusiva a la Vora del Ter")
LOCATION:
METHOD:PUBLISH
X-WR-CALNAME:administracio@consorcidelter.cat
X-WR-TIMEZONE:Europe/Madrid
DESCRIPTION:
URI:https://www.consorcidelter.cat/actualitat/agenda/anellament-cientific-docells-a-ribes-de-freser-salut-i-natura-inclusiva-a-la-vora-del-ter.html
CLASS:PUBLIC
END:VEVENT
END:VCALENDAR
