BEGIN:VCALENDAR
VERSION:2.0
CALSCALE:GREGORIAN
PRODID:-//Diputació de Barcelona//DibaCMS//EN
BEGIN:VEVENT
UID:2760
DTSTAMP:20260421T110116
DTSTART:20231007T080000
DTEND:20231007T130000
SUMMARY:Dia Mundial dels Ocells al Parc del Castell de Montesquiu
LOCATION:
METHOD:PUBLISH
X-WR-CALNAME:administracio@consorcidelter.cat
X-WR-TIMEZONE:Europe/Madrid
DESCRIPTION:
URI:https://www.consorcidelter.cat/actualitat/agenda/dia-mundial-dels-ocells-al-parc-del-castell-de-montesquiu.html
CLASS:PUBLIC
END:VEVENT
END:VCALENDAR
